0.25
0
0
-0.25
563125.19674
4728751.80254
