0.25
0
0
-0.25
566448.38054
4738038.96945
