0.25
0
0
-0.25
576671.43048
4738149.99764
