0.25
0
0
-0.25
587039.95664
4726709.37536
