0.25
0
0
-0.25
603932.82967
4738520.34543
