0.25
0
0
-0.25
627701.05788
4743559.91871
