0.25
0
0
-0.25
634512.26865
4743693.01799
