0.25
0
0
-0.25
624337.25428
4741182.51166
