0.25
0
0
-0.25
624504.12908
4731929.11986
