0.25
0
0
-0.25
641607.88038
4729953.01917
