0.25
0
0
-0.25
654945.24188
4744132.88584
