0.25
0
0
-0.25
668680.32167
4739833.06953
