0.25
0
0
-0.25
662028.1362
4732726.2775
