0.25
0
0
-0.25
662082.48606
4730412.95411
