0.25
0
0
-0.25
658723.2011
4728018.81583
