0.25
0
0
-0.25
675495.78208
4740006.70879
