0.25
0
0
-0.25
559852.40411
4712526.81899
