0.25
0
0
-0.25
553047.08918
4707841.88696
