0.25
0
0
-0.25
566604.28493
4721845.41784
