0.25
0
0
-0.25
570066.5625
4717254.17942
