0.25
0
0
-0.25
611044.83562
4720123.20226
