0.25
0
0
-0.25
594117.20121
4708295.84919
