0.25
0
0
-0.25
631546.21762
4720492.33541
