0.25
0
0
-0.25
631633.89319
4715865.60246
