0.25
0
0
-0.25
638472.44775
4716002.08023
