0.25
0
0
-0.25
628257.29553
4713486.56581
