0.25
0
0
-0.25
638610.6716
4709061.90021
