0.25
0
0
-0.25
658829.33508
4723392.0427
