0.25
0
0
-0.25
559971.40466
4698647.59217
