0.25
0
0
-0.25
587301.17658
4705890.04513
