0.25
0
0
-0.25
570229.50336
4701061.50841
