0.25
0
0
-0.25
573655.40724
4701098.55876
