0.25
0
0
-0.25
570276.01114
4696435.20199
