0.25
0
0
-0.25
573704.18265
4696472.23824
