0.25
0
0
-0.25
607843.02422
4706187.90307
