0.25
0
0
-0.25
607914.58017
4701561.45244
