0.25
0
0
-0.25
597733.80822
4694465.45274
