0.25
0
0
-0.25
604627.03158
4692254.9158
