0.25
0
0
-0.25
631896.47684
4701985.61654
