0.25
0
0
-0.25
621698.85266
4697167.25429
