0.25
0
0
-0.25
621739.13982
4694854.02747
