0.25
0
0
-0.25
625210.00238
4692603.03814
