0.25
0
0
-0.25
649125.99876
4697712.12271
