0.25
0
0
-0.25
615108.26102
4680855.45887
