0.25
0
0
-0.25
611708.8388
4678485.14769
