0.25
0
0
-0.25
594553.48284
4675911.50321
