0.25
0
0
-0.25
615259.76319
4671602.85495
