0.25
0
0
-0.25
598088.42138
4669020.94362
