0.25
0
0
-0.25
604972.03113
4669123.3866
