0.25
0
0
-0.25
594677.65725
4666659.06143
